BEGIN:VCALENDAR
PRODID:-//AT Content Types//AT Event//EN
VERSION:1.0
BEGIN:VEVENT
DTSTART:20091013T163500Z
DTEND:20091013T163500Z
DCREATED:20091013T163313Z
UID:ATEvent-fc5385c9e9aaa4109a03e99b2b4d23bf
SEQUENCE:0
LAST-MODIFIED:20091013T175439Z
SUMMARY:Court Finishes Vote Recount in Gabon
DESCRIPTION:Gabon's constitutional court has finished its recount of p
 residential ballots. The court says it expects to rule on the validity
  of the vote in the coming week.\n\nConstitutional court president Mar
 ie Madeleine Mborantsuo says the court has completed recounting every 
 return from the more than 2\,800 polling stations.
PRIORITY:3
TRANSP:0
END:VEVENT
END:VCALENDAR
