BEGIN:VCALENDAR
PRODID:-//AT Content Types//AT Event//EN
VERSION:2.0
METHOD:PUBLISH
BEGIN:VEVENT
DTSTAMP:20260424T061157Z
CREATED:20091013T164245Z
UID:ATEvent-99dfa4f36964364a9bc2f2eac9d57ff7
LAST-MODIFIED:20091013T180659Z
SUMMARY:Gabon court upholds Bongo victory
DTSTART:20091013T164500Z
DTEND:20091013T164500Z
DESCRIPTION:Gabon's Constitutional Court has upheld Ali Ben Bongo's vi
 ctory in August's presidential election\, opening the way for him to b
 e sworn in.\n\nNine opposition candidates had called for the vote to b
 e annulled\, arguing that there was widespread fraud.\n\nThey accused 
 Mr Bongo - the son of the country's former ruler\, Omar Bongo\, who di
 ed in June after 41 years in power - of rigging the re-count.\n\nThere
  was violence in several cities after the result was first announced.
CATEGORIES:Election
URL:http://news.bbc.co.uk/2/hi/africa/8303956.stm
CLASS:PUBLIC
END:VEVENT
END:VCALENDAR
