BEGIN:VCALENDAR
PRODID:-//AT Content Types//AT Event//EN
VERSION:2.0
METHOD:PUBLISH
BEGIN:VEVENT
DTSTAMP:20260420T080653Z
CREATED:20090915T145200Z
UID:ATEvent-bb5cb2855aaf1d74036e80b5dc68ffe1
LAST-MODIFIED:20090916T111038Z
SUMMARY:Primary Election
DTSTART:20081116T155500Z
DTEND:20081116T155500Z
LOCATION:Honduras
CATEGORIES:Election
CLASS:PUBLIC
END:VEVENT
END:VCALENDAR
