BEGIN:VCALENDAR
PRODID:-//AT Content Types//AT Event//EN
VERSION:2.0
METHOD:PUBLISH
BEGIN:VEVENT
DTSTAMP:20260421T062045Z
CREATED:20111005T084151Z
UID:ATEvent-7302c8f945a8b1d7764a2bd3f94c5734
LAST-MODIFIED:20111020T075936Z
SUMMARY:Vacancy\: Program Coordinator - Democratic Governance BRIDGE – Australian Election Commission\, Indonesia Country Office (For Indonesian Nationality)
DTSTART:20111016T084500Z
DTEND:20111028T100000Z
DESCRIPTION:Application Deadline\: Midnight\, Friday\, 28 October 2011
 \nLanguage Required\: English\nDuration of Initial Contract\: 1 year w
 ith possibility of extension
LOCATION:Jakarta\, Indonesia
CATEGORIES:Job Opportunities
CONTACT:info@aecindonesia.org
URL:http://bit.ly/aec-ebridge
CLASS:PUBLIC
END:VEVENT
END:VCALENDAR
