BEGIN:VCALENDAR
PRODID:-//AT Content Types//AT Event//EN
VERSION:2.0
METHOD:PUBLISH
BEGIN:VEVENT
DTSTAMP:20260425T181634Z
CREATED:20100112T080534Z
UID:ATEvent-68d86950337f6f9022909d2cf6b50bb4
LAST-MODIFIED:20100202T101903Z
SUMMARY:World Movement for Democracy Sixth Assembly\: Solidarity across Cultures\: Working Together for Democracy
DTSTART:20100411T060500Z
DTEND:20100414T060500Z
DESCRIPTION:The Sixth Assembly will bring together a richly diverse gr
 oup of participants representing every region of the world in the spir
 it of shared democratic values.  They will teach and learn from each o
 ther\, build collaborative relationships\, and thereby strengthen the 
 World Movement as a network committed to mutual support\, exchange\, a
 nd cooperation.
LOCATION:Jakarta\, Indonesia
CATEGORIES:Workshop
CONTACT:world@ned.org
URL:http://www.wmd.org/sixth/index.html
CLASS:PUBLIC
END:VEVENT
END:VCALENDAR
