BEGIN:VCALENDAR
PRODID:-//AT Content Types//AT Event//EN
VERSION:1.0
BEGIN:VEVENT
DTSTART:20100324T070000Z
DTEND:20100327T170000Z
DCREATED:20100322T211741Z
UID:ATEvent-fbbddf335ed0cda7be5201ca7d33fbc6
SEQUENCE:0
LAST-MODIFIED:20100323T145042Z
SUMMARY:IGAD ELECTION OBSERVATION BRIDGE WORKSHOP
DESCRIPTION:IGAD has organised a 4 day workshop for 35 participants fr
 om 5 of its member state countries to be trained in observation to be 
 deployed in Sudan for the scheduled general election on 11 April 2010.
 
LOCATION:Mombasa\, Kenya
PRIORITY:3
TRANSP:0
END:VEVENT
END:VCALENDAR
