BEGIN:VCALENDAR
PRODID:-//AT Content Types//AT Event//EN
VERSION:1.0
BEGIN:VEVENT
DTSTART:20100503T181000Z
DTEND:20100504T181000Z
DCREATED:20100429T180803Z
UID:ATEvent-1c0c511ded1399325c8bb481521df011
SEQUENCE:0
LAST-MODIFIED:20100429T182945Z
SUMMARY:Kenya\: Using Public International Law to Assess Elections\: The Experience in Africa
DESCRIPTION:EISA and The Carter Center will hold a two day workshop on
  “Using Public International Law to Assess Elections\: The Experienc
 e in Africa” in Nairobi\, Kenya.  The workshop will be held at the L
 aico Regency Hotel. The workshop will provide a platform for participa
 nts to discuss the role of public international law in election observ
 ation in Africa\, and how continental and regional obligations can inf
 orm observation methods and processes.
LOCATION:Laico Regency Hotel\, Nairobi Kenya
PRIORITY:3
TRANSP:0
END:VEVENT
END:VCALENDAR
