BEGIN:VCALENDAR
PRODID:-//AT Content Types//AT Event//EN
VERSION:1.0
BEGIN:VEVENT
DTSTART:20090119T120000Z
DTEND:20090121T120000Z
DCREATED:20100127T130039Z
UID:ATEvent-ea92f9a6aef44a97f3ea73d7f1a4bd11
SEQUENCE:0
LAST-MODIFIED:20100127T131431Z
SUMMARY:EISA Workshop\: Promoting Intra Party Democracy in Lesotho
DESCRIPTION:This EISA project aimed at strengthening political parties
  as a way of contributing towards sustainable democracy in Lesotho. It
  focused on capacity building through training workshops covering them
 atic areas such as gender representation in political parties\; intern
 al organisation\; management and functioning of parties\; leadership q
 ualities within political parties as well as conflict management. ACE 
 was promoted as part of this workshop.
LOCATION:Lesotho
PRIORITY:3
TRANSP:0
END:VEVENT
END:VCALENDAR
