BEGIN:VCALENDAR
PRODID:-//AT Content Types//AT Event//EN
VERSION:1.0
BEGIN:VEVENT
DTSTART:20080602T120000Z
DTEND:20080606T120000Z
DCREATED:20100127T140036Z
UID:ATEvent-dc8dac9b293e655481d626f9622b1a58
SEQUENCE:0
LAST-MODIFIED:20100202T164911Z
SUMMARY:BRIDGE Train the Trainers Course for Malawi Electoral Commission
DESCRIPTION:Two workshops were held as part of this event\: Orientatio
 n Workshop for Commissioners and Training of Trainers Workshop for the
  Malawi Electoral Commission. The Orientation was a part of the ACE Ca
 pacity Building Facility and the Enhancing Capacity of Election Practi
 tioners (ECEP) programmes\, which are both implemented by EISA. The Tr
 aining targeted mainly the MEC staff who are responsible for designing
 \, planning and conducting training for their colleagues in carrying o
 ut different activities associated with the management of the 2009 ele
 ctions. Both workshops were aimed at commissioners and members of the 
 Malawi Electoral Commission (MEC).
LOCATION:Zomba\, Malawi
PRIORITY:3
TRANSP:0
END:VEVENT
END:VCALENDAR
