BEGIN:VCALENDAR
PRODID:-//AT Content Types//AT Event//EN
VERSION:1.0
BEGIN:VEVENT
DTSTART:20090813T113500Z
DTEND:20090814T113500Z
DCREATED:20100127T133250Z
UID:ATEvent-8d6ba744dcd7775dde16d6039259d443
SEQUENCE:0
LAST-MODIFIED:20100127T133612Z
SUMMARY:EISA Workshop on Performance of Political Parties in the 2009 Elections\: Examining the Weakening of Party Systems in Malawi
DESCRIPTION:This workshop took place as a part of the post election re
 view. The principal goal of the workshop was to reflect on the 2009 pr
 esidential and parliamentary elections in Malawi and critically assess
  its implications for institutionalisation of the party system in view
  of the fact that parties play a key role in the democratisation proce
 ss. ACE was promoted during this event.
LOCATION:Blantyre\, Malawi
PRIORITY:3
TRANSP:0
END:VEVENT
END:VCALENDAR
