BEGIN:VCALENDAR
PRODID:-//AT Content Types//AT Event//EN
VERSION:1.0
BEGIN:VEVENT
DTSTART:20090928T070000Z
DTEND:20091002T150000Z
DCREATED:20100215T164622Z
UID:ATEvent-9faf4845ff8268d7c31f53fdea9f1616
SEQUENCE:0
LAST-MODIFIED:20100219T113500Z
SUMMARY:2nd Inter-American Electoral Training Seminar
DESCRIPTION:2nd Inter-American Electoral Training Seminar\, Mexico Cit
 y\,
LOCATION:Mexico City
PRIORITY:3
TRANSP:0
END:VEVENT
END:VCALENDAR
