BEGIN:VCALENDAR
PRODID:-//AT Content Types//AT Event//EN
VERSION:2.0
METHOD:PUBLISH
BEGIN:VEVENT
DTSTAMP:20260425T165305Z
CREATED:20100527T144418Z
UID:ATEvent-3ab69540b2666a35d077fac884b9e346
LAST-MODIFIED:20110121T153656Z
SUMMARY:México\: Mesa redonda "Democracia y espacio público en América Latina"
DTSTART:20100602T150000Z
DTEND:20100602T173000Z
DESCRIPTION:Broadcast of the workshop in Spanish\: "Democracy and publ
 ic space in Latin America"
LOCATION:Instituto Federal Electoral\, México
CATEGORIES:Voter Education,Workshop,Links,Mexico
URL:http://www.ife.org.mx/
CLASS:PUBLIC
END:VEVENT
END:VCALENDAR
