BEGIN:VCALENDAR
PRODID:-//AT Content Types//AT Event//EN
VERSION:2.0
METHOD:PUBLISH
BEGIN:VEVENT
DTSTAMP:20260425T025649Z
CREATED:20120703T085148Z
UID:ATEvent-22a4c075ed080611d7544894797d5496
LAST-MODIFIED:20120703T085957Z
SUMMARY:Voters Registration Workshop
DTSTART:20120822T070000Z
DTEND:20120824T150000Z
DESCRIPTION:Curriculum Development Workshop.
LOCATION:Maputo\, Mozambique
CATEGORIES:Workshop
URL:http://bridge-project.org/component/rsevents/event/2261-voters-registration
CLASS:PUBLIC
END:VEVENT
END:VCALENDAR
