BEGIN:VCALENDAR
PRODID:-//AT Content Types//AT Event//EN
VERSION:2.0
METHOD:PUBLISH
BEGIN:VEVENT
DTSTAMP:20260420T144024Z
CREATED:20120703T090308Z
UID:ATEvent-14e3836f968232e33ffa11e01602c50d
LAST-MODIFIED:20120703T090550Z
SUMMARY:Strategic Planning Curriculum Development Workshop
DTSTART:20120912T060000Z
DTEND:20120914T030000Z
DESCRIPTION:Pro PALOP|TL Funded Strategic Planning Curriculum Developm
 ent Workshop in Mozambique.
LOCATION:Maputo\, Mozambique
CATEGORIES:Workshop
URL:http://bridge-project.org/component/rsevents/event/2263-strategic-planning
CLASS:PUBLIC
END:VEVENT
END:VCALENDAR
