BEGIN:VCALENDAR
PRODID:-//AT Content Types//AT Event//EN
VERSION:1.0
BEGIN:VEVENT
DTSTART:20090610T092000Z
DTEND:20090612T092000Z
DCREATED:20100202T111938Z
UID:ATEvent-f2b75f7d32adc2b7848a7f432f07c988
SEQUENCE:0
LAST-MODIFIED:20100202T112522Z
SUMMARY:ACE Annual Meeting for Regional Centres
DESCRIPTION:This year's annual meeting for the regional election resea
 rch centres took place at International IDEA's premises\, with the sup
 port of UNDEF. All ACE regional centres were represented at the meetin
 gs and workshops\, which aimed to enhance the cooperation among the re
 gional centres.
LOCATION:International IDEA\, Stockholm\, Sweden
PRIORITY:3
TRANSP:0
END:VEVENT
END:VCALENDAR
