BEGIN:VCALENDAR
PRODID:-//AT Content Types//AT Event//EN
VERSION:2.0
METHOD:PUBLISH
BEGIN:VEVENT
DTSTAMP:20260424T095358Z
CREATED:20100309T092819Z
UID:ATEvent-c35e717b16e067f57a8ea7be63259a2a
LAST-MODIFIED:20100309T093841Z
SUMMARY:Double Seminar\: "The Parliamentarian Election and the 'Tweeter Revolution' in the Republic of Moldova from April 2009\: after one year considerations" AND "Ukraine\: Presidential elections 2010"
DTSTART:20100312T141500Z
DTEND:20100312T160000Z
DESCRIPTION:On March 12\, 2010\, the Uppsala Centre for Russian Studie
 s is holding a double seminar on political developments in Moldova and
  Ukraine. The guest speakers will be Dr. Sergey Kurbarov from Academy 
 of Pedagogical Sciences in Kiev\, Ukraine and Dr. Ludmila Cojari from 
 Free International University in Chisenau\, Moldova. The discussion wi
 ll be focused on the 2009 parliamentary elections in Moldova and the r
 ecent 2010 presidential elections in Ukraine.
LOCATION:Uppsala Centre for Russian Studies\, Gamla Torget 3\, Uppsala\, Sweden
CATEGORIES:Seminar
CLASS:PUBLIC
END:VEVENT
END:VCALENDAR
