BEGIN:VCALENDAR
PRODID:-//AT Content Types//AT Event//EN
VERSION:2.0
METHOD:PUBLISH
BEGIN:VEVENT
DTSTAMP:20260421T012017Z
CREATED:20100202T110822Z
UID:ATEvent-ad17a3b70957a5af29d70b7ca430f36e
LAST-MODIFIED:20100202T111206Z
SUMMARY:Spanish Coordination Meeting for ACE Regional Centres (IFE\, JNE)
DTSTART:20090608T091000Z
DTEND:20090609T091000Z
DESCRIPTION:The ACE Secretariat and International IDEA facilitated a m
 eeting for the Spanish speaking ACE regional centres (IFE and JNE) at 
 the International IDEA premises. The meeting served as a basis for enh
 ancing future cooperation and coordination of future activities.
LOCATION:International IDEA\, Stockholm\, Sweden
CATEGORIES:Meeting,ACE Event
CLASS:PUBLIC
END:VEVENT
END:VCALENDAR
