BEGIN:VCALENDAR
PRODID:-//AT Content Types//AT Event//EN
VERSION:1.0
BEGIN:VEVENT
DTSTART:20090128T150500Z
DTEND:20090130T150500Z
DCREATED:20100201T160432Z
UID:ATEvent-abfab183bdc1eb8919532268e620a2a0
SEQUENCE:0
LAST-MODIFIED:20100201T160629Z
SUMMARY:Meeting with West African Civil Society Organizations (Goree)
LOCATION:Goree Island\, Senegal
PRIORITY:3
TRANSP:0
END:VEVENT
END:VCALENDAR
