BEGIN:VCALENDAR
PRODID:-//AT Content Types//AT Event//EN
VERSION:1.0
BEGIN:VEVENT
DTSTART:20110120T113500Z
DTEND:20110508T103500Z
DCREATED:20110105T123232Z
UID:ATEvent-4d40a24f7716f863f74ba26892c749c6
SEQUENCE:0
LAST-MODIFIED:20110105T123550Z
SUMMARY:EU Election Observation Mission to Chad
DESCRIPTION:The European Union will send electoral observers to monito
 r the elections planned for 2011 in Chad. The National Assembly electi
 ons (originally due on 28 Nov 2010\, 2009 and 2006) will be held on Fe
 bruary 20\, 2011\, local elections (due  on 12 Dec 2010) will be on Ma
 rch 27\, 2011 and finally the presidential elections (postponed from 2
 3 Apr 2011) will be on May 8\, 2011.
LOCATION:Chad
PRIORITY:3
TRANSP:0
END:VEVENT
END:VCALENDAR
