BEGIN:VCALENDAR
PRODID:-//AT Content Types//AT Event//EN
VERSION:1.0
BEGIN:VEVENT
DTSTART:20081028T154500Z
DTEND:20081030T154500Z
DCREATED:20100201T164414Z
UID:ATEvent-e2dfb2970da7864ebba46322d384dcb9
SEQUENCE:0
LAST-MODIFIED:20100201T164636Z
SUMMARY:ECOWAS Regional Meeting on Lessons Learned in Electoral Observation (Goree)
DESCRIPTION:The Goree Research Centre participated in this event\, and
  promoted ACE as part of the activities.
LOCATION:Lome\, Togo
PRIORITY:3
TRANSP:0
END:VEVENT
END:VCALENDAR
