BEGIN:VCALENDAR
PRODID:-//AT Content Types//AT Event//EN
VERSION:1.0
BEGIN:VEVENT
DTSTART:20110822T060000Z
DTEND:20110902T150000Z
DCREATED:20110601T131832Z
UID:ATEvent-1266800445df216aef0fe55f1784a70b
SEQUENCE:0
LAST-MODIFIED:20110601T132342Z
SUMMARY:BRIDGE Train the Facilitators - Gender Focus
DESCRIPTION:International IDEA will host a BRIDGE TtF in Pretoria\, So
 uth Africa in support of African organisations working in the field of
  Gender and Elections.
LOCATION:Pretoria\, South Africa
PRIORITY:3
TRANSP:0
END:VEVENT
END:VCALENDAR
