BEGIN:VCALENDAR
PRODID:-//AT Content Types//AT Event//EN
VERSION:2.0
METHOD:PUBLISH
BEGIN:VEVENT
DTSTAMP:20260422T164022Z
CREATED:20130703T072447Z
UID:ATEvent-7d1810b37ce689b85d2f7f691df70542
LAST-MODIFIED:20130703T072853Z
SUMMARY:BRIDGE Training for SADC-ESN members to be held in South Africa
DTSTART:20130704T063000Z
DTEND:20130705T150000Z
DESCRIPTION:The workshop will be conducted for SADC-ESN members. Facil
 itators of the workshop are Rindai Chipfunde Vava\, Harris Potani and 
 Revai Makanje Aalbaek.
LOCATION:Pretoria\, South Africa
CATEGORIES:Election Observation
CONTACT:Rindai Chipfunde Vava \, sadcesn@gmail.com
URL:http://www.bridge-project.org/events/events-calendar/event/1132-sadc-esn-customised-observation-workshop-in-south-africa-jul-13.html
CLASS:PUBLIC
END:VEVENT
END:VCALENDAR
