BEGIN:VCALENDAR
PRODID:-//AT Content Types//AT Event//EN
VERSION:2.0
METHOD:PUBLISH
BEGIN:VEVENT
DTSTAMP:20260424T113844Z
CREATED:20101109T083719Z
UID:ATEvent-9d77f0954333b21c310f4e4972c6169e
LAST-MODIFIED:20101109T084552Z
SUMMARY:Principles on Election Management\, Monitoring and Observation in the SADC region (PEMMO) and Roles played by other Stakeholders
DTSTART:20101110T070000Z
DTEND:20101111T160000Z
LOCATION:Johannesburg\, South Africa.
CATEGORIES:Workshop
CONTACT:Hilda Modisane\, +267 318 0012\, hmodisane@gov.bw
CLASS:PUBLIC
END:VEVENT
END:VCALENDAR
