BEGIN:VCALENDAR
PRODID:-//AT Content Types//AT Event//EN
VERSION:2.0
METHOD:PUBLISH
BEGIN:VEVENT
DTSTAMP:20260423T170954Z
CREATED:20100202T163315Z
UID:ATEvent-2edd53c701e1defd8bfbc6f997eca7d4
LAST-MODIFIED:20100202T163451Z
SUMMARY:South African Political Parties Workshop
DTSTART:20080526T143500Z
DTEND:20080528T143500Z
DESCRIPTION:EISA held a workshop for South African political parties a
 s part of its Strengthening Political Parties for Sustainable Democrac
 y in the SADC Region programme\, funded by the Embassy of Finland in P
 retoria.
LOCATION:Johannesburg\, South Africa
CATEGORIES:Workshop
URL:http://www.eisa.org.za/events/ppsa200805.htm
CLASS:PUBLIC
END:VEVENT
END:VCALENDAR
