BEGIN:VCALENDAR
PRODID:-//AT Content Types//AT Event//EN
VERSION:2.0
METHOD:PUBLISH
BEGIN:VEVENT
DTSTAMP:20260425T232558Z
CREATED:20110719T092503Z
UID:ATEvent-81bd3fc118a8e14b03c304a6d4f33267
LAST-MODIFIED:20110719T093704Z
SUMMARY:Swaziland Democratisation Seminar
DTSTART:20110728T060000Z
DTEND:20110728T110000Z
DESCRIPTION:The Africa Institute of South Africa in partnership with H
 uman Rights Watch and North South Institute of Canada will hold a semi
 nar on The Challenges of Consolidating Democratic Governance in Swazil
 and.
CONTACT:Sam Lekala\, +27 (0) 12 304 9753\; Cell +27 (0) 73 334 3104\, slekala@ai.org.za
CLASS:PUBLIC
END:VEVENT
END:VCALENDAR
