BEGIN:VCALENDAR
PRODID:-//AT Content Types//AT Event//EN
VERSION:1.0
BEGIN:VEVENT
DTSTART:20091118T230000Z
DTEND:20091119T230000Z
DCREATED:20091027T090006Z
UID:ATEvent-355fb2a187f55939e042f9b74b2be626
SEQUENCE:0
LAST-MODIFIED:20091027T090821Z
SUMMARY:EISA Voter Registration Workshop
DESCRIPTION:EISA invites you to a two-day workshop on the Development 
 of Sustainable Voter Registration Methodologies to be held on the 19th
  and 20th November at the Rosebank Crowne Plaza Hotel in Johannesburg\
 , South Africa. The workshop will bring together various stakeholders 
 such as international voter registration experts and representatives f
 rom electoral management bodies\, civil society organisations\, and do
 nor organisations.
LOCATION:Johannesburg\, South Africa
PRIORITY:3
TRANSP:0
END:VEVENT
END:VCALENDAR
